BEGIN:VCALENDAR
VERSION:2.0
PRODID:-//Carolinas-Virginia Minority Supplier Development - ECPv6.15.20//NONSGML v1.0//EN
CALSCALE:GREGORIAN
METHOD:PUBLISH
X-ORIGINAL-URL:https://cvmsdc.org
X-WR-CALDESC:Events for Carolinas-Virginia Minority Supplier Development
REFRESH-INTERVAL;VALUE=DURATION:PT1H
X-Robots-Tag:noindex
X-PUBLISHED-TTL:PT1H
BEGIN:VTIMEZONE
TZID:UTC
BEGIN:STANDARD
TZOFFSETFROM:+0000
TZOFFSETTO:+0000
TZNAME:UTC
DTSTART:20250101T000000
END:STANDARD
END:VTIMEZONE
BEGIN:VEVENT
DTSTART;TZID=UTC:20260421T130000
DTEND;TZID=UTC:20260421T140000
DTSTAMP:20260421T122726
CREATED:20260116T150636Z
LAST-MODIFIED:20260226T151400Z
UID:10000336-1776776400-1776780000@cvmsdc.org
SUMMARY:MLP RING Meetings 2026
DESCRIPTION:Join us VIRTUALLY on April 21st for our next MLP RING Meeting! \nDate: 4/21/26 \nTime: 1:00pm (EST) \nLocation: Virtual via Teams \nRegister: TBD \n\nThe MLP RING encompasses the Midlands\, Low Country\, Pee-Dee\, which includes cities east of Columbia\, SC and surrounding areas. We currently serve a variety of industries to include Manufacturing\, Aerospace\, Automotive\, General Products\, and Government related businesses in and around South Carolina. \nWhen We Meet\n\n\n\n\nWe welcome you to join our community and connect with our Corporate and MBE members through our monthly meetings and any networking events scheduled. \n\n\n\n\nVirtual – Tuesdays\, 1:00pm (EST) \n\n Tuesday\, March 17 / Register Here\n Tuesday\, April 21st  / Register Here\n Tuesday\, July 21st  / Register Here\n Tuesday\, September 15th / Register Here\n\n\nIn-person – Date/Time = TBD \n\nMay 15\, Hotel Indigo\, Mount Pleasant\, SC / Register Here\nJune 11\, Augusta Convention Center/ Marriott\, SC / Register Here\nOctober\, Columbia\, SC / Register Here\nDecember\, Richmond\, VA / Register Here
URL:https://cvmsdc.org/council-event/mlp-ring-meetings-2026-4/
CATEGORIES:In Person,MLP,networking,RING,Webinar
ATTACH;FMTTYPE=image/jpeg:https://cvmsdc.org/wp-content/uploads/2024/02/MLPRING.jpg
ORGANIZER;CN="CVMSDC":MAILTO:info@cvmsdc.org
LOCATION:
END:VEVENT
BEGIN:VEVENT
DTSTART;VALUE=DATE:20260513
DTEND;VALUE=DATE:20260514
DTSTAMP:20260421T122726
CREATED:20250828T133035Z
LAST-MODIFIED:20250828T134450Z
UID:10000317-1778630400-1778716799@cvmsdc.org
SUMMARY:2026 BMW Supplier Xchange- Save the Date
DESCRIPTION:SAVE THE DATE. \nBMW SUPPLIER XCHANGE \nMay 13th\, 2026\, Greenville Convention Center \nOfficial Registration will open February 2026 \nClick the link below for Sponsorship opportunities – Contact BMW_SupplierEvents@bmw.com for more info and event details to follow! \n2026 Sponsorship Matrix \nOur mission is to actively seek out and partner with a diverse range of suppliers that reflect our customers.\n\nWe believe that engaging a wide range of suppliers is not just the right thing to do\, but also a strategic imperative that drives innovation\, reduces risk\, and fosters economic growth for all. By prioritizing this approach\, we commit to building strong\, long-term relationships with our suppliers\, promoting equity and inclusion in the broader business ecosystem\, and creating sustainable value for our customers\, shareholders\, and society at large.
URL:https://cvmsdc.org/council-event/2026-bmw-supplier-xchange-save-the-date/
LOCATION:GREENVILLE CONVENTION CENTER
CATEGORIES:Corporate Partner,In Person,networking
ATTACH;FMTTYPE=image/png:https://cvmsdc.org/wp-content/uploads/2025/08/BMW2026supplierxchange.png
END:VEVENT
BEGIN:VEVENT
DTSTART;TZID=UTC:20260515T080000
DTEND;TZID=UTC:20260515T140000
DTSTAMP:20260421T122726
CREATED:20260116T150810Z
LAST-MODIFIED:20260303T160929Z
UID:10000337-1778832000-1778853600@cvmsdc.org
SUMMARY:MLP RING Meetings 2026
DESCRIPTION:Join us In-Person in May for our next MLP RING Meeting! \nDate: May 15th \nTime: 8:00 am – 2:00 pm  (EDT) \nLocation: Hotel Indigo\, Mount Pleasant\, SC \nRegister: https://www.eventbrite.com/e/blueprint-for-economic-impact-summit-vendor-expo-tickets-1982300365756?aff=oddtdtcreator \n\nThe MLP RING encompasses the Midlands\, Low Country\, Pee-Dee\, which includes cities east of Columbia\, SC and surrounding areas. We currently serve a variety of industries to include Manufacturing\, Aerospace\, Automotive\, General Products\, and Government related businesses in and around South Carolina. \n\n  \nEvent Details: \n\n\nDate: May 15\, 2026 \n\n\nTime: 8:00 AM – 2:00 PM (EDT) \n\n\nLocation: Hotel Indigo\, Mount Pleasant\, South Carolina \n\n\nThe agenda features leadership panel discussions\, rapid-fire workshops\, and interactive networking opportunities designed to foster regional collaboration. Your participation is vital to these discussions\, and we look forward to the collective impact. \nNext Steps: Please confirm your attendance by registering via the link: 2026 BEI Summit Registration Link \nLogistics: Room blocks have been reserved at the Hotel Indigo for your convenience. Please use the following link to secure your accommodations: Hotel Indigo Room Block \nThank you and we look forward to seeing you at the BEI Summit 2026. \n\nWhen We Meet\n\n\n\n\nWe welcome you to join our community and connect with our Corporate and MBE members through our monthly meetings and any networking events scheduled. \nVirtual – Tuesdays\, 1:00pm (EST) \n\n Tuesday\, March 17 / Register Here\n Tuesday\, April 21st  / Register Here\n Tuesday\, July 21st  / Register Here\n Tuesday\, September 15th / Register Here\n\n\nIn-person – Date/Time = TBD \n\nMay 15\, Hotel Indigo\, Mount Pleasant\, SC / Register Here\nJune 11\, Augusta Convention Center/ Marriott\, SC / Register Here\nOctober\, Columbia\, SC / Register Here\nDecember\, Richmond\, VA / Register Here
URL:https://cvmsdc.org/council-event/mlp-ring-meetings-2026-5/
LOCATION:Hotel Indigo\, 250 Johnnie Dodds Boulevard\, Mount Pleasant\, SC\, 29464\, United States
CATEGORIES:In Person,MLP,networking,RING,Webinar
ATTACH;FMTTYPE=image/jpeg:https://cvmsdc.org/wp-content/uploads/2024/02/MLPRING.jpg
ORGANIZER;CN="CVMSDC":MAILTO:info@cvmsdc.org
END:VEVENT
BEGIN:VEVENT
DTSTART;TZID=UTC:20260721T130000
DTEND;TZID=UTC:20260721T140000
DTSTAMP:20260421T122726
CREATED:20260116T151017Z
LAST-MODIFIED:20260226T152918Z
UID:10000339-1784638800-1784642400@cvmsdc.org
SUMMARY:MLP RING Meetings 2026
DESCRIPTION:Join us VIRTUALLY on July 21st for our next MLP RING Meeting! \nDate: 7/21/26 \nTime: 1:00pm (EST) \nLocation: Virtual via Teams \nRegister: TBD \n\nThe MLP RING encompasses the Midlands\, Low Country\, Pee-Dee\, which includes cities east of Columbia\, SC and surrounding areas. We currently serve a variety of industries to include Manufacturing\, Aerospace\, Automotive\, General Products\, and Government related businesses in and around South Carolina. \nWhen We Meet\n\n\n\n\nWe welcome you to join our community and connect with our Corporate and MBE members through our monthly meetings and any networking events scheduled. \n\n\nVirtual – Tuesdays\, 1:00pm (EST) \n\n Tuesday\, March 17 / Register Here\n Tuesday\, April 21st  / Register Here\n Tuesday\, July 21st  / Register Here\n Tuesday\, September 15th / Register Here\n\n\nIn-person – Date/Time = TBD \n\n\n\nMay 15\, Hotel Indigo\, Mount Pleasant\, SC / Register Here\nJune 11\, Augusta Convention Center/ Marriott\, SC / Register Here\nOctober\, Columbia\, SC / Register Here\nDecember\, Richmond\, VA / Register Here
URL:https://cvmsdc.org/council-event/mlp-ring-meetings-2026-7/
CATEGORIES:In Person,MLP,networking,RING,Webinar
ATTACH;FMTTYPE=image/jpeg:https://cvmsdc.org/wp-content/uploads/2024/02/MLPRING.jpg
ORGANIZER;CN="CVMSDC":MAILTO:info@cvmsdc.org
LOCATION:
END:VEVENT
BEGIN:VEVENT
DTSTART;TZID=UTC:20260915T130000
DTEND;TZID=UTC:20260915T140000
DTSTAMP:20260421T122726
CREATED:20260116T151138Z
LAST-MODIFIED:20260116T151139Z
UID:10000341-1789477200-1789480800@cvmsdc.org
SUMMARY:MLP RING Meetings 2026
DESCRIPTION:Join us VIRTUALLY on September 15th for our next MLP RING Meeting! \nDate: 9/15/26 \nTime: 1:00pm (EST) \nLocation: Virtual via Teams \nRegister: TBD \n\nThe MLP RING encompasses the Midlands\, Low Country\, Pee-Dee\, which includes cities east of Columbia\, SC and surrounding areas. We currently serve a variety of industries to include Manufacturing\, Aerospace\, Automotive\, General Products\, and Government related businesses in and around South Carolina. \nWhen We Meet\n\n\n\n\nWe welcome you to join our community and connect with our Corporate and MBE members through our monthly meetings and any networking events scheduled. \nVirtual – Tuesdays\, 1:00pm (EST) \n\n Tuesday\, February 17th  /Register Here\n Tuesday\, April 21st  / Register Here\n Tuesday\, June 16th  / Register Here\n Tuesday\, July 21st  / Register Here\n Tuesday\, September 15th / Register Here\n\n\nIn-person – Date/Time = TBD \n\nMarch\, Charleston\, SC\nMay\, Aiken\, SC\nOctober\, Columbia\, SC\nDecember\, Richmond\, VA
URL:https://cvmsdc.org/council-event/mlp-ring-meetings-2026-8/
CATEGORIES:In Person,MLP,networking,RING,Webinar
ATTACH;FMTTYPE=image/jpeg:https://cvmsdc.org/wp-content/uploads/2024/02/MLPRING.jpg
ORGANIZER;CN="CVMSDC":MAILTO:info@cvmsdc.org
LOCATION:
END:VEVENT
BEGIN:VEVENT
DTSTART;TZID=UTC:20261020T130000
DTEND;TZID=UTC:20261020T140000
DTSTAMP:20260421T122726
CREATED:20260116T151427Z
LAST-MODIFIED:20260116T151429Z
UID:10000342-1792501200-1792504800@cvmsdc.org
SUMMARY:MLP RING Meetings 2026
DESCRIPTION:Join us In-Person in October for our next MLP RING Meeting! \nDate: TBD \nTime: 1:00pm (EST) \nLocation: Columbia\, SC \nRegister: TBD \n\nThe MLP RING encompasses the Midlands\, Low Country\, Pee-Dee\, which includes cities east of Columbia\, SC and surrounding areas. We currently serve a variety of industries to include Manufacturing\, Aerospace\, Automotive\, General Products\, and Government related businesses in and around South Carolina. \nWhen We Meet\n\n\n\n\nWe welcome you to join our community and connect with our Corporate and MBE members through our monthly meetings and any networking events scheduled. \nVirtual – Tuesdays\, 1:00pm (EST) \n\n Tuesday\, February 17th  /Register Here\n Tuesday\, April 21st  / Register Here\n Tuesday\, June 16th  / Register Here\n Tuesday\, July 21st  / Register Here\n Tuesday\, September 15th / Register Here\n\n\nIn-person – Date/Time = TBD \n\nMarch\, Charleston\, SC\nMay\, Aiken\, SC\nOctober\, Columbia\, SC\nDecember\, Richmond\, VA
URL:https://cvmsdc.org/council-event/mlp-ring-meetings-2026-9/
CATEGORIES:In Person,MLP,networking,RING,Webinar
ATTACH;FMTTYPE=image/jpeg:https://cvmsdc.org/wp-content/uploads/2024/02/MLPRING.jpg
ORGANIZER;CN="CVMSDC":MAILTO:info@cvmsdc.org
LOCATION:
END:VEVENT
BEGIN:VEVENT
DTSTART;TZID=UTC:20261215T130000
DTEND;TZID=UTC:20261215T140000
DTSTAMP:20260421T122726
CREATED:20260116T151602Z
LAST-MODIFIED:20260116T151911Z
UID:10000344-1797339600-1797343200@cvmsdc.org
SUMMARY:MLP RING Meetings 2026
DESCRIPTION:Join us In-Person in December for our next MLP RING Meeting! \nDate: TBD \nTime: 1:00pm (EST) \nLocation: Richmond\, VA \nRegister: TBD \n\nThe MLP RING encompasses the Midlands\, Low Country\, Pee-Dee\, which includes cities east of Columbia\, SC and surrounding areas. We currently serve a variety of industries to include Manufacturing\, Aerospace\, Automotive\, General Products\, and Government related businesses in and around South Carolina. \nWhen We Meet\n\n\n\n\nWe welcome you to join our community and connect with our Corporate and MBE members through our monthly meetings and any networking events scheduled. \nVirtual – Tuesdays\, 1:00pm (EST) \n\n Tuesday\, February 17th  /Register Here\n Tuesday\, April 21st  / Register Here\n Tuesday\, June 16th  / Register Here\n Tuesday\, July 21st  / Register Here\n Tuesday\, September 15th / Register Here\n\n\nIn-person – Date/Time = TBD \n\nMarch\, Charleston\, SC\nMay\, Aiken\, SC\nOctober\, Columbia\, SC\nDecember\, Richmond\, VA
URL:https://cvmsdc.org/council-event/mlp-ring-meetings-2026-10/
CATEGORIES:In Person,MLP,networking,RING,Webinar
ATTACH;FMTTYPE=image/jpeg:https://cvmsdc.org/wp-content/uploads/2024/02/MLPRING.jpg
ORGANIZER;CN="CVMSDC":MAILTO:info@cvmsdc.org
LOCATION:
END:VEVENT
END:VCALENDAR